BEGIN:VCALENDAR
VERSION:2.0
PRODID:-//CiviCRM//NONSGML CiviEvent iCal//EN
X-WR-TIMEZONE:Etc/GMT+6
METHOD:PUBLISH
BEGIN:VTIMEZONE
TZID:Etc/GMT+6
BEGIN:STANDARD
TZOFFSETFROM:-0600
TZOFFSETTO:-0600
TZNAME:-06
DTSTART:20260516T090000
END:STANDARD
END:VTIMEZONE
BEGIN:VEVENT
UID:CiviCRM_EventID_1459_7f940512ad07121cb0843fa79bdb6986@gorctrails.com
SUMMARY:SIUE - Trail Building Day 05-16-2026
X-ALT-DESC;FMTTYPE=text/html:<!DOCTYPE HTML PUBLIC
  "-//W3C//DTD HTML 3.2//EN"><html><body><p><strong
 >Date:</strong> Saturday\, May 16\, 2026 - 9am - 1
 pm</p><p><strong>Location:</strong> SIUE</p><p><st
 rong>Build Plans:</strong> We'll be performing mai
 ntenance and trimming back the trail corridor.</p>
 <p><strong>Where:</strong> <a href="https://www.go
 ogle.com/maps/place/38%C2%B048'14.8%22N+89%C2%B059
 '39.0%22W/@38.804097\,-89.994179\,17z/data=!3m1!4b
 1!4m4!3m3!8m2!3d38.804097!4d-89.994179?entry=ttu">
 Google Maps - Cougar Village</a></p><p><strong>Wha
 t to bring: </strong>Gloves\, Sturdy shoes\, eye p
 rotection\, and something to drink on the trail.</
 p><p><strong>Lunch will be provided.</strong></p><
 p><a href="https://gorctrails.com/civicrm/event/pa
 rticipant?reset=1&id=1459"><strong>See Who's Alrea
 dy Signed Up</strong></a></p></body></html>
DESCRIPTION:Date: Saturday\, May 16\, 2026 - 9am - 1pm\n \n Lo
 cation: SIUE\n \n Build Plans: We'll be performing
  maintenance and trimming back the trail corridor.
 \n \n Where: Google Maps - Cougar Village (https:/
 /www.google.com/maps/place/38%C2%B048'14.8%22N+89%
 C2%B059'39.0%22W/@38.804097\,-89.994179\,17z/data=
 !3m1!4b1!4m4!3m3!8m2!3d38.804097!4d-89.994179?entr
 y=ttu)\n \n What to bring: Gloves\, Sturdy shoes\,
  eye protection\, and something to drink on the tr
 ail.\n \n Lunch will be provided.\n \n See Who's A
 lready Signed Up\n \n 
CATEGORIES:Trail Building
CALSCALE:GREGORIAN
DTSTAMP;TZID=Etc/GMT+6:20260516T090000
DTSTART;TZID=Etc/GMT+6:20260516T090000
DTEND;TZID=Etc/GMT+6:20260516T130000
LOCATION:SIUE - Cougar Village\n Edwardsville\, IL 62025\n 
URL:https://gorctrails.com/civicrm/event/info/?reset=1&id=1459
END:VEVENT
END:VCALENDAR
